




BEGIN:VCALENDAR
VERSION:2.0
PRODID:-//Movement France - ECPv6.0.3.1//NONSGML v1.0//EN
CALSCALE:GREGORIAN
METHOD:PUBLISH
X-ORIGINAL-URL:https://movementfrance.com
X-WR-CALDESC:Events for Movement France
REFRESH-INTERVAL;VALUE=DURATION:PT1H
X-Robots-Tag:noindex
X-PUBLISHED-TTL:PT1H
BEGIN:VTIMEZONE
TZID:Europe/Paris
BEGIN:DAYLIGHT
TZOFFSETFROM:+0100
TZOFFSETTO:+0200
TZNAME:CEST
DTSTART:20230326T010000
END:DAYLIGHT
BEGIN:STANDARD
TZOFFSETFROM:+0200
TZOFFSETTO:+0100
TZNAME:CET
DTSTART:20231029T010000
END:STANDARD
END:VTIMEZONE
BEGIN:VEVENT
DTSTART;VALUE=DATE:20231001
DTEND;VALUE=DATE:20231002
DTSTAMP:20260422T173233
CREATED:20230731T182741Z
LAST-MODIFIED:20230731T182741Z
UID:9027-1696118400-1696204799@movementfrance.com
SUMMARY:La foire d'automne
DESCRIPTION:
URL:https://movementfrance.com/event/la-foire-dautomne/
LOCATION:Hannonville
END:VEVENT
BEGIN:VEVENT
DTSTART;TZID=Europe/Paris:20231014T130000
DTEND;TZID=Europe/Paris:20231014T220000
DTSTAMP:20260422T173233
CREATED:20231011T132649Z
LAST-MODIFIED:20231011T132649Z
UID:9049-1697288400-1697320800@movementfrance.com
SUMMARY:Fête de la Soupe - Pulnoy
DESCRIPTION:
URL:https://movementfrance.com/event/fete-de-la-soupe-pulnoy/
LOCATION:L’atelier à Toul
ATTACH;FMTTYPE=image/jpeg:https://movementfrance.com/wp-content/uploads/2023/10/386560829_618813547082906_3773657486257162203_n.jpg
END:VEVENT
END:VCALENDAR