




BEGIN:VCALENDAR
VERSION:2.0
PRODID:-//Movement France - ECPv6.0.3.1//NONSGML v1.0//EN
CALSCALE:GREGORIAN
METHOD:PUBLISH
X-ORIGINAL-URL:https://movementfrance.com
X-WR-CALDESC:Events for Movement France
REFRESH-INTERVAL;VALUE=DURATION:PT1H
X-Robots-Tag:noindex
X-PUBLISHED-TTL:PT1H
BEGIN:VTIMEZONE
TZID:Europe/Paris
BEGIN:DAYLIGHT
TZOFFSETFROM:+0100
TZOFFSETTO:+0200
TZNAME:CEST
DTSTART:20230326T010000
END:DAYLIGHT
BEGIN:STANDARD
TZOFFSETFROM:+0200
TZOFFSETTO:+0100
TZNAME:CET
DTSTART:20231029T010000
END:STANDARD
END:VTIMEZONE
BEGIN:VEVENT
DTSTART;TZID=Europe/Paris:20230501T083000
DTEND;TZID=Europe/Paris:20230501T120000
DTSTAMP:20260423T044243
CREATED:20230422T121637Z
LAST-MODIFIED:20230422T121815Z
UID:8833-1682929800-1682942400@movementfrance.com
SUMMARY:L'écurie de Marcel et Ginette
DESCRIPTION:
URL:https://movementfrance.com/event/lecurie-de-marcel-et-ginette/
LOCATION:149 Rue des grands jardins\, Moutrot\, France
ATTACH;FMTTYPE=image/jpeg:https://movementfrance.com/wp-content/uploads/2023/04/341058020_955900008917300_2957365877909368887_n.jpg
END:VEVENT
BEGIN:VEVENT
DTSTART;TZID=Europe/Paris:20230505T100000
DTEND;TZID=Europe/Paris:20230507T190000
DTSTAMP:20260423T044243
CREATED:20230330T184626Z
LAST-MODIFIED:20230422T122119Z
UID:8714-1683280800-1683486000@movementfrance.com
SUMMARY:Talents de femmes
DESCRIPTION:
URL:https://movementfrance.com/event/talents-de-femmes/
LOCATION:Nancy\, CD54
ATTACH;FMTTYPE=image/jpeg:https://movementfrance.com/wp-content/uploads/2023/04/341858644_1520505208352927_1618864237810751442_n.jpg
END:VEVENT
BEGIN:VEVENT
DTSTART;TZID=Europe/Paris:20230513T130000
DTEND;TZID=Europe/Paris:20230513T183000
DTSTAMP:20260423T044243
CREATED:20230218T142737Z
LAST-MODIFIED:20230218T142737Z
UID:8646-1683982800-1684002600@movementfrance.com
SUMMARY:Foire aux livres - Amnesty
DESCRIPTION:
URL:https://movementfrance.com/event/foire-aux-livres-amnesty/
LOCATION:Thionville
END:VEVENT
BEGIN:VEVENT
DTSTART;TZID=Europe/Paris:20230514T080000
DTEND;TZID=Europe/Paris:20230514T170000
DTSTAMP:20260423T044243
CREATED:20230208T201013Z
LAST-MODIFIED:20230422T125934Z
UID:8641-1684051200-1684083600@movementfrance.com
SUMMARY:Fête du printemps
DESCRIPTION:
URL:https://movementfrance.com/event/fete-du-printemps-3/
LOCATION:Ancy sur Moselle
ATTACH;FMTTYPE=image/jpeg:https://movementfrance.com/wp-content/uploads/2023/02/340245560_548331630749539_4853317073648779175_n.jpg
END:VEVENT
BEGIN:VEVENT
DTSTART;TZID=Europe/Paris:20230520T080000
DTEND;TZID=Europe/Paris:20230617T170000
DTSTAMP:20260423T044243
CREATED:20230504T203548Z
LAST-MODIFIED:20230504T203548Z
UID:8867-1684569600-1687021200@movementfrance.com
SUMMARY:Pop up Store\, boutique éphémère
DESCRIPTION:
URL:https://movementfrance.com/event/pop-up-store-boutique-ephemere-2/
LOCATION:Centre Saint Jacques Metz
ATTACH;FMTTYPE=image/jpeg:https://movementfrance.com/wp-content/uploads/2023/03/345030675_1202330577138292_6386989426625055956_n.jpg
END:VEVENT
BEGIN:VEVENT
DTSTART;TZID=Europe/Paris:20230526T160000
DTEND;TZID=Europe/Paris:20230527T190000
DTSTAMP:20260423T044243
CREATED:20230330T184431Z
LAST-MODIFIED:20230504T203403Z
UID:8711-1685116800-1685214000@movementfrance.com
SUMMARY:Xirocourt
DESCRIPTION:
URL:https://movementfrance.com/event/xirocourt/
LOCATION:Xirocourt
ATTACH;FMTTYPE=image/jpeg:https://movementfrance.com/wp-content/uploads/2023/03/343666749_916847356235048_5629369669387914873_n.jpg
END:VEVENT
BEGIN:VEVENT
DTSTART;TZID=Europe/Paris:20230527T083000
DTEND;TZID=Europe/Paris:20230527T130000
DTSTAMP:20260423T044244
CREATED:20230422T122939Z
LAST-MODIFIED:20230422T122939Z
UID:8848-1685176200-1685192400@movementfrance.com
SUMMARY:Artisans du Monde Metz
DESCRIPTION:
URL:https://movementfrance.com/event/artisans-du-monde-metz/
LOCATION:Metz\, Metz\, France
END:VEVENT
END:VCALENDAR