




BEGIN:VCALENDAR
VERSION:2.0
PRODID:-//Movement France - ECPv6.0.3.1//NONSGML v1.0//EN
CALSCALE:GREGORIAN
METHOD:PUBLISH
X-ORIGINAL-URL:https://movementfrance.com
X-WR-CALDESC:Events for Movement France
REFRESH-INTERVAL;VALUE=DURATION:PT1H
X-Robots-Tag:noindex
X-PUBLISHED-TTL:PT1H
BEGIN:VTIMEZONE
TZID:Europe/Paris
BEGIN:DAYLIGHT
TZOFFSETFROM:+0100
TZOFFSETTO:+0200
TZNAME:CEST
DTSTART:20230326T010000
END:DAYLIGHT
BEGIN:STANDARD
TZOFFSETFROM:+0200
TZOFFSETTO:+0100
TZNAME:CET
DTSTART:20231029T010000
END:STANDARD
END:VTIMEZONE
BEGIN:VEVENT
DTSTART;TZID=Europe/Paris:20230326T100000
DTEND;TZID=Europe/Paris:20230326T180000
DTSTAMP:20260423T121530
CREATED:20230207T205636Z
LAST-MODIFIED:20230207T212700Z
UID:8624-1679824800-1679853600@movementfrance.com
SUMMARY:Salon Saveurs et Mieux Etre
DESCRIPTION:
URL:https://movementfrance.com/event/salon-saveurs-et-mieux-etre/
LOCATION:Void Vacon
ATTACH;FMTTYPE=image/png:https://movementfrance.com/wp-content/uploads/2023/02/affiche.png
END:VEVENT
END:VCALENDAR