




BEGIN:VCALENDAR
VERSION:2.0
PRODID:-//Movement France - ECPv6.0.3.1//NONSGML v1.0//EN
CALSCALE:GREGORIAN
METHOD:PUBLISH
X-ORIGINAL-URL:https://movementfrance.com
X-WR-CALDESC:Events for Movement France
REFRESH-INTERVAL;VALUE=DURATION:PT1H
X-Robots-Tag:noindex
X-PUBLISHED-TTL:PT1H
BEGIN:VTIMEZONE
TZID:Europe/Paris
BEGIN:DAYLIGHT
TZOFFSETFROM:+0100
TZOFFSETTO:+0200
TZNAME:CEST
DTSTART:20220327T010000
END:DAYLIGHT
BEGIN:STANDARD
TZOFFSETFROM:+0200
TZOFFSETTO:+0100
TZNAME:CET
DTSTART:20221030T010000
END:STANDARD
END:VTIMEZONE
BEGIN:VEVENT
DTSTART;TZID=Europe/Paris:20220806T160000
DTEND;TZID=Europe/Paris:20220806T190000
DTSTAMP:20260423T231647
CREATED:20220729T134551Z
LAST-MODIFIED:20220729T134551Z
UID:8387-1659801600-1659812400@movementfrance.com
SUMMARY:Marché de Reillon
DESCRIPTION:
URL:https://movementfrance.com/event/marche-de-reillon/
LOCATION:Reillon
END:VEVENT
BEGIN:VEVENT
DTSTART;TZID=Europe/Paris:20220827T080000
DTEND;TZID=Europe/Paris:20220828T170000
DTSTAMP:20260423T231647
CREATED:20220325T101321Z
LAST-MODIFIED:20220729T134456Z
UID:7967-1661587200-1661706000@movementfrance.com
SUMMARY:Jardin d'la Zabelle
DESCRIPTION:
URL:https://movementfrance.com/event/jardin-dla-zabelle/
LOCATION:Sion
ATTACH;FMTTYPE=image/jpeg:https://movementfrance.com/wp-content/uploads/2022/03/295758364_3064268277216505_5854276971045073526_n.jpg
END:VEVENT
END:VCALENDAR