




BEGIN:VCALENDAR
VERSION:2.0
PRODID:-//Movement France - ECPv6.0.3.1//NONSGML v1.0//EN
CALSCALE:GREGORIAN
METHOD:PUBLISH
X-ORIGINAL-URL:https://movementfrance.com
X-WR-CALDESC:Events for Movement France
REFRESH-INTERVAL;VALUE=DURATION:PT1H
X-Robots-Tag:noindex
X-PUBLISHED-TTL:PT1H
BEGIN:VTIMEZONE
TZID:Europe/Paris
BEGIN:DAYLIGHT
TZOFFSETFROM:+0100
TZOFFSETTO:+0200
TZNAME:CEST
DTSTART:20210328T010000
END:DAYLIGHT
BEGIN:STANDARD
TZOFFSETFROM:+0200
TZOFFSETTO:+0100
TZNAME:CET
DTSTART:20211031T010000
END:STANDARD
END:VTIMEZONE
BEGIN:VEVENT
DTSTART;TZID=Europe/Paris:20211113T080000
DTEND;TZID=Europe/Paris:20211114T170000
DTSTAMP:20260424T124637
CREATED:20211008T183139Z
LAST-MODIFIED:20211017T103032Z
UID:7799-1636790400-1636909200@movementfrance.com
SUMMARY:Marché du Monde Solidaire
DESCRIPTION:
URL:https://movementfrance.com/event/marche-du-monde-solidaire-2/
LOCATION:Nancy\, CD54
ATTACH;FMTTYPE=image/jpeg:https://movementfrance.com/wp-content/uploads/2021/10/2021-87-MDMS-AFF-A3.jpg
END:VEVENT
BEGIN:VEVENT
DTSTART;TZID=Europe/Paris:20211119T160000
DTEND;TZID=Europe/Paris:20211119T200000
DTSTAMP:20260424T124637
CREATED:20211008T183238Z
LAST-MODIFIED:20211008T183238Z
UID:7802-1637337600-1637352000@movementfrance.com
SUMMARY:Soirée chez Vêt'éthic
DESCRIPTION:
URL:https://movementfrance.com/event/soiree-chez-vetethic/
LOCATION:Nancy
ATTACH;FMTTYPE=image/png:https://movementfrance.com/wp-content/uploads/2021/10/En-attendant-noel-vENEZ-NOUS-RETROUVER-a-LA-BOUTIQUE-Vet-Ethic.png
END:VEVENT
BEGIN:VEVENT
DTSTART;TZID=Europe/Paris:20211127T080000
DTEND;TZID=Europe/Paris:20211128T170000
DTSTAMP:20260424T124637
CREATED:20211017T103429Z
LAST-MODIFIED:20211017T103429Z
UID:7816-1638000000-1638118800@movementfrance.com
SUMMARY:Marché de Noël à Rosières aux Salines
DESCRIPTION:
URL:https://movementfrance.com/event/marche-de-noel-a-rosieres-aux-salines/
LOCATION:Rosières aux Salines\, France
ATTACH;FMTTYPE=image/jpeg:https://movementfrance.com/wp-content/uploads/2021/10/marche-de-noel-83.jpg
END:VEVENT
END:VCALENDAR