




BEGIN:VCALENDAR
VERSION:2.0
PRODID:-//Movement France - ECPv6.0.3.1//NONSGML v1.0//EN
CALSCALE:GREGORIAN
METHOD:PUBLISH
X-ORIGINAL-URL:https://movementfrance.com
X-WR-CALDESC:Events for Movement France
REFRESH-INTERVAL;VALUE=DURATION:PT1H
X-Robots-Tag:noindex
X-PUBLISHED-TTL:PT1H
BEGIN:VTIMEZONE
TZID:Europe/Paris
BEGIN:DAYLIGHT
TZOFFSETFROM:+0100
TZOFFSETTO:+0200
TZNAME:CEST
DTSTART:20210328T010000
END:DAYLIGHT
BEGIN:STANDARD
TZOFFSETFROM:+0200
TZOFFSETTO:+0100
TZNAME:CET
DTSTART:20211031T010000
END:STANDARD
END:VTIMEZONE
BEGIN:VEVENT
DTSTART;VALUE=DATE:20210703
DTEND;VALUE=DATE:20210724
DTSTAMP:20260424T182059
CREATED:20210614T183045Z
LAST-MODIFIED:20210614T183112Z
UID:7614-1625270400-1627084799@movementfrance.com
SUMMARY:Mon Village Ubu n'tu
DESCRIPTION:
URL:https://movementfrance.com/event/mon-village-ubu-ntu/
LOCATION:Maxeville
ATTACH;FMTTYPE=image/jpeg:https://movementfrance.com/wp-content/uploads/2021/06/192680972_4561153323953046_940911850488612639_n.jpg
END:VEVENT
BEGIN:VEVENT
DTSTART;VALUE=DATE:20210710
DTEND;VALUE=DATE:20210712
DTSTAMP:20260424T182059
CREATED:20210426T182954Z
LAST-MODIFIED:20210426T182954Z
UID:7567-1625875200-1626047999@movementfrance.com
SUMMARY:Marché Au Jardin d'la Zabelle
DESCRIPTION:Le 10 et 11 Juiller 2021\, venez nous retrouver à la Cité des Paysages à Sion\, pour la 5ème rencontre d’écologie humaine. \n \n 
URL:https://movementfrance.com/event/marche-au-jardin-dla-zabelle/
ATTACH;FMTTYPE=image/jpeg:https://movementfrance.com/wp-content/uploads/2021/04/unnamed.jpg
END:VEVENT
END:VCALENDAR