




BEGIN:VCALENDAR
VERSION:2.0
PRODID:-//Movement France - ECPv6.0.3.1//NONSGML v1.0//EN
CALSCALE:GREGORIAN
METHOD:PUBLISH
X-ORIGINAL-URL:https://movementfrance.com
X-WR-CALDESC:Events for Movement France
REFRESH-INTERVAL;VALUE=DURATION:PT1H
X-Robots-Tag:noindex
X-PUBLISHED-TTL:PT1H
BEGIN:VTIMEZONE
TZID:Europe/Paris
BEGIN:DAYLIGHT
TZOFFSETFROM:+0100
TZOFFSETTO:+0200
TZNAME:CEST
DTSTART:20210328T010000
END:DAYLIGHT
BEGIN:STANDARD
TZOFFSETFROM:+0200
TZOFFSETTO:+0100
TZNAME:CET
DTSTART:20211031T010000
END:STANDARD
END:VTIMEZONE
BEGIN:VEVENT
DTSTART;TZID=Europe/Paris:20210519T080000
DTEND;TZID=Europe/Paris:20210619T170000
DTSTAMP:20260424T213119
CREATED:20210519T173857Z
LAST-MODIFIED:20210519T173911Z
UID:7582-1621411200-1624122000@movementfrance.com
SUMMARY:Boutique éphémère
DESCRIPTION:Au centre Saint Jacques à Metz retrouvez nous pour cette nouvelle édition durant 1 mois du 19 Mai au 19 Juin !
URL:https://movementfrance.com/event/boutique-ephemere/
LOCATION:Metz\, Metz\, France
END:VEVENT
BEGIN:VEVENT
DTSTART;TZID=Europe/Paris:20210521T143000
DTEND;TZID=Europe/Paris:20210521T180000
DTSTAMP:20260424T213119
CREATED:20210519T173552Z
LAST-MODIFIED:20210519T173552Z
UID:7577-1621607400-1621620000@movementfrance.com
SUMMARY:Marché du commerce équitable
DESCRIPTION:Retrouvez nous au marché du commerc équitable place du marché à Vandoeuvre\, vendredi 21 après midi de 14h30 à 18h.\nAu plaisir de vous y retrouver
URL:https://movementfrance.com/event/marche-du-commerce-equitable/
LOCATION:Vandoeuvre\, place du marché
END:VEVENT
BEGIN:VEVENT
DTSTART;TZID=Europe/Paris:20210523T080000
DTEND;TZID=Europe/Paris:20210523T170000
DTSTAMP:20260424T213119
CREATED:20210426T181522Z
LAST-MODIFIED:20210519T173422Z
UID:7563-1621756800-1621789200@movementfrance.com
SUMMARY:Jolie journée du 23 mai à LAB.outique
DESCRIPTION:Venez nous retrouver à Saint Clément\, durant la journée du 23 Mai\, pour profiter de notre premier marché de l’année. \n \n 
URL:https://movementfrance.com/event/jolie-journee-du-9-mai-a-lab-outique/
LOCATION:Saint Clément
ATTACH;FMTTYPE=image/jpeg:https://movementfrance.com/wp-content/uploads/2021/04/175947572_225627379315540_1624654646483872833_n.jpg
END:VEVENT
END:VCALENDAR