




BEGIN:VCALENDAR
VERSION:2.0
PRODID:-//Movement France - ECPv6.0.3.1//NONSGML v1.0//EN
CALSCALE:GREGORIAN
METHOD:PUBLISH
X-WR-CALNAME:Movement France
X-ORIGINAL-URL:https://movementfrance.com
X-WR-CALDESC:Events for Movement France
REFRESH-INTERVAL;VALUE=DURATION:PT1H
X-Robots-Tag:noindex
X-PUBLISHED-TTL:PT1H
BEGIN:VTIMEZONE
TZID:Europe/Paris
BEGIN:DAYLIGHT
TZOFFSETFROM:+0100
TZOFFSETTO:+0200
TZNAME:CEST
DTSTART:20220327T010000
END:DAYLIGHT
BEGIN:STANDARD
TZOFFSETFROM:+0200
TZOFFSETTO:+0100
TZNAME:CET
DTSTART:20221030T010000
END:STANDARD
END:VTIMEZONE
BEGIN:VEVENT
DTSTART;TZID=Europe/Paris:20221104T123000
DTEND;TZID=Europe/Paris:20221105T180000
DTSTAMP:20260423T135130
CREATED:20221028T165636Z
LAST-MODIFIED:20221028T170007Z
UID:8509-1667565000-1667671200@movementfrance.com
SUMMARY:Village des solutions de demain au CD54
DESCRIPTION:Retrouvez – nous les 4 et 5 Novembre au Conseil Départemental de Meurthe-et-Moselle pour vous présenter nos actions et projets. \nLien Facebook de l’événement \n 
URL:https://movementfrance.com/event/village-des-solutions-de-demain-au-cd54/
LOCATION:Nancy\, France
ATTACH;FMTTYPE=image/jpeg:https://movementfrance.com/wp-content/uploads/2022/10/VIllage-des-solutions-de-demain.jpg
END:VEVENT
END:VCALENDAR