




BEGIN:VCALENDAR
VERSION:2.0
PRODID:-//Movement France - ECPv6.0.3.1//NONSGML v1.0//EN
CALSCALE:GREGORIAN
METHOD:PUBLISH
X-WR-CALNAME:Movement France
X-ORIGINAL-URL:https://movementfrance.com
X-WR-CALDESC:Events for Movement France
REFRESH-INTERVAL;VALUE=DURATION:PT1H
X-Robots-Tag:noindex
X-PUBLISHED-TTL:PT1H
BEGIN:VTIMEZONE
TZID:Europe/Paris
BEGIN:DAYLIGHT
TZOFFSETFROM:+0100
TZOFFSETTO:+0200
TZNAME:CEST
DTSTART:20230326T010000
END:DAYLIGHT
BEGIN:STANDARD
TZOFFSETFROM:+0200
TZOFFSETTO:+0100
TZNAME:CET
DTSTART:20231029T010000
END:STANDARD
END:VTIMEZONE
BEGIN:VEVENT
DTSTART;TZID=Europe/Paris:20230520T080000
DTEND;TZID=Europe/Paris:20230617T170000
DTSTAMP:20260423T004500
CREATED:20230504T203548Z
LAST-MODIFIED:20230504T203548Z
UID:8867-1684569600-1687021200@movementfrance.com
SUMMARY:Pop up Store\, boutique éphémère
DESCRIPTION:
URL:https://movementfrance.com/event/pop-up-store-boutique-ephemere-2/
LOCATION:Centre Saint Jacques Metz
ATTACH;FMTTYPE=image/jpeg:https://movementfrance.com/wp-content/uploads/2023/03/345030675_1202330577138292_6386989426625055956_n.jpg
END:VEVENT
END:VCALENDAR