




BEGIN:VCALENDAR
VERSION:2.0
PRODID:-//Movement France - ECPv6.0.3.1//NONSGML v1.0//EN
CALSCALE:GREGORIAN
METHOD:PUBLISH
X-ORIGINAL-URL:https://movementfrance.com
X-WR-CALDESC:Events for Movement France
REFRESH-INTERVAL;VALUE=DURATION:PT1H
X-Robots-Tag:noindex
X-PUBLISHED-TTL:PT1H
BEGIN:VTIMEZONE
TZID:Europe/Paris
BEGIN:DAYLIGHT
TZOFFSETFROM:+0100
TZOFFSETTO:+0200
TZNAME:CEST
DTSTART:20240331T010000
END:DAYLIGHT
BEGIN:STANDARD
TZOFFSETFROM:+0200
TZOFFSETTO:+0100
TZNAME:CET
DTSTART:20241027T010000
END:STANDARD
END:VTIMEZONE
BEGIN:VEVENT
DTSTART;TZID=Europe/Paris:20241123T140000
DTEND;TZID=Europe/Paris:20241123T190000
DTSTAMP:20260421T210910
CREATED:20241025T151916Z
LAST-MODIFIED:20241025T151916Z
UID:9466-1732370400-1732388400@movementfrance.com
SUMMARY:House Party
DESCRIPTION:
URL:https://movementfrance.com/event/house-party/
LOCATION:Velaine sous amance\, Velaine sous amance\, France
ATTACH;FMTTYPE=image/png:https://movementfrance.com/wp-content/uploads/2024/10/House-party.png
END:VEVENT
END:VCALENDAR