




BEGIN:VCALENDAR
VERSION:2.0
PRODID:-//Movement France - ECPv6.0.3.1//NONSGML v1.0//EN
CALSCALE:GREGORIAN
METHOD:PUBLISH
X-WR-CALNAME:Movement France
X-ORIGINAL-URL:https://movementfrance.com
X-WR-CALDESC:Events for Movement France
REFRESH-INTERVAL;VALUE=DURATION:PT1H
X-Robots-Tag:noindex
X-PUBLISHED-TTL:PT1H
BEGIN:VTIMEZONE
TZID:Europe/Paris
BEGIN:DAYLIGHT
TZOFFSETFROM:+0100
TZOFFSETTO:+0200
TZNAME:CEST
DTSTART:20230326T010000
END:DAYLIGHT
BEGIN:STANDARD
TZOFFSETFROM:+0200
TZOFFSETTO:+0100
TZNAME:CET
DTSTART:20231029T010000
END:STANDARD
END:VTIMEZONE
BEGIN:VEVENT
DTSTART;TZID=Europe/Paris:20230826T140000
DTEND;TZID=Europe/Paris:20230829T183000
DTSTAMP:20260423T004056
CREATED:20230731T182042Z
LAST-MODIFIED:20230731T182042Z
UID:9022-1693058400-1693333800@movementfrance.com
SUMMARY:Festi'Ba
DESCRIPTION:
URL:https://movementfrance.com/event/festiba/
LOCATION:Chamigneulles\, Champigneulles\, France
ATTACH;FMTTYPE=image/jpeg:https://movementfrance.com/wp-content/uploads/2023/07/363380295_312872151094062_3290950392658857703_n.jpg
END:VEVENT
END:VCALENDAR