




BEGIN:VCALENDAR
VERSION:2.0
PRODID:-//Movement France - ECPv6.0.3.1//NONSGML v1.0//EN
CALSCALE:GREGORIAN
METHOD:PUBLISH
X-ORIGINAL-URL:https://movementfrance.com
X-WR-CALDESC:Events for Movement France
REFRESH-INTERVAL;VALUE=DURATION:PT1H
X-Robots-Tag:noindex
X-PUBLISHED-TTL:PT1H
BEGIN:VTIMEZONE
TZID:Europe/Paris
BEGIN:DAYLIGHT
TZOFFSETFROM:+0100
TZOFFSETTO:+0200
TZNAME:CEST
DTSTART:20220327T010000
END:DAYLIGHT
BEGIN:STANDARD
TZOFFSETFROM:+0200
TZOFFSETTO:+0100
TZNAME:CET
DTSTART:20221030T010000
END:STANDARD
END:VTIMEZONE
BEGIN:VEVENT
DTSTART;TZID=Europe/Paris:20221126T080000
DTEND;TZID=Europe/Paris:20221231T170000
DTSTAMP:20260423T184646
CREATED:20221028T171657Z
LAST-MODIFIED:20221029T115055Z
UID:8529-1669449600-1672506000@movementfrance.com
SUMMARY:Pop up Store\, boutique éphémère
DESCRIPTION:Il est de retour au centre Saint Jacques à Metz ! \ndu 26 Novembre au 31 Décembre !\nEncore plein de nouveautés
URL:https://movementfrance.com/event/pop-up-store-boutique-ephemere/
LOCATION:Centre Saint Jacques Metz
END:VEVENT
BEGIN:VEVENT
DTSTART;TZID=Europe/Paris:20221210T080000
DTEND;TZID=Europe/Paris:20221211T170000
DTSTAMP:20260423T184646
CREATED:20221028T171242Z
LAST-MODIFIED:20221125T202842Z
UID:8524-1670659200-1670778000@movementfrance.com
SUMMARY:Marché Solidaire à Tomblaine
DESCRIPTION:Comme chaque année le marché solidaire aura lieu à Tomblaine les 17 et 18 Décembre
URL:https://movementfrance.com/event/marche-solidaire-a-tomblaine/
LOCATION:Tomblaine
ATTACH;FMTTYPE=image/jpeg:https://movementfrance.com/wp-content/uploads/2022/10/314401046_3264298653831600_1283421798364895173_n.jpg
END:VEVENT
BEGIN:VEVENT
DTSTART;TZID=Europe/Paris:20221210T080000
DTEND;TZID=Europe/Paris:20221211T170000
DTSTAMP:20260423T184646
CREATED:20221028T171524Z
LAST-MODIFIED:20221125T203148Z
UID:8526-1670659200-1670778000@movementfrance.com
SUMMARY:Autre Marché de Noël aux Frigos 2022
DESCRIPTION:A Metz les 10 et 11 Décembre \n 
URL:https://movementfrance.com/event/autre-marche-de-noel-aux-frigos-2022/
LOCATION:Aux frigos à Metz
ATTACH;FMTTYPE=image/jpeg:https://movementfrance.com/wp-content/uploads/2022/07/Frigos-Marche-de-Noel-1080x1080-carre-fb.jpg
END:VEVENT
END:VCALENDAR