




BEGIN:VCALENDAR
VERSION:2.0
PRODID:-//Movement France - ECPv6.0.3.1//NONSGML v1.0//EN
CALSCALE:GREGORIAN
METHOD:PUBLISH
X-WR-CALNAME:Movement France
X-ORIGINAL-URL:https://movementfrance.com
X-WR-CALDESC:Events for Movement France
REFRESH-INTERVAL;VALUE=DURATION:PT1H
X-Robots-Tag:noindex
X-PUBLISHED-TTL:PT1H
BEGIN:VTIMEZONE
TZID:Europe/Paris
BEGIN:DAYLIGHT
TZOFFSETFROM:+0100
TZOFFSETTO:+0200
TZNAME:CEST
DTSTART:20220327T010000
END:DAYLIGHT
BEGIN:STANDARD
TZOFFSETFROM:+0200
TZOFFSETTO:+0100
TZNAME:CET
DTSTART:20221030T010000
END:STANDARD
END:VTIMEZONE
BEGIN:VEVENT
DTSTART;TZID=Europe/Paris:20220904T080000
DTEND;TZID=Europe/Paris:20220904T170000
DTSTAMP:20260424T005725
CREATED:20220729T134932Z
LAST-MODIFIED:20221125T203023Z
UID:8390-1662278400-1662310800@movementfrance.com
SUMMARY:Les frigos
DESCRIPTION:
URL:https://movementfrance.com/event/les-frigos/
LOCATION:Metz
ATTACH;FMTTYPE=image/jpeg:https://movementfrance.com/wp-content/uploads/2022/07/Frigos-Marche-de-Noel-1080x1080-carre-fb.jpg
END:VEVENT
END:VCALENDAR