




BEGIN:VCALENDAR
VERSION:2.0
PRODID:-//Movement France - ECPv6.0.3.1//NONSGML v1.0//EN
CALSCALE:GREGORIAN
METHOD:PUBLISH
X-ORIGINAL-URL:https://movementfrance.com
X-WR-CALDESC:Events for Movement France
REFRESH-INTERVAL;VALUE=DURATION:PT1H
X-Robots-Tag:noindex
X-PUBLISHED-TTL:PT1H
BEGIN:VTIMEZONE
TZID:Europe/Paris
BEGIN:DAYLIGHT
TZOFFSETFROM:+0100
TZOFFSETTO:+0200
TZNAME:CEST
DTSTART:20220327T010000
END:DAYLIGHT
BEGIN:STANDARD
TZOFFSETFROM:+0200
TZOFFSETTO:+0100
TZNAME:CET
DTSTART:20221030T010000
END:STANDARD
END:VTIMEZONE
BEGIN:VEVENT
DTSTART;TZID=Europe/Paris:20220508T090000
DTEND;TZID=Europe/Paris:20220508T180000
DTSTAMP:20260424T044711
CREATED:20220325T100826Z
LAST-MODIFIED:20220325T100826Z
UID:7958-1652000400-1652032800@movementfrance.com
SUMMARY:la Fête du printemps à Ancy
DESCRIPTION:
URL:https://movementfrance.com/event/la-fete-du-printemps-a-ancy/
LOCATION:Ancy-Dornot\, France
ATTACH;FMTTYPE=image/jpeg:https://movementfrance.com/wp-content/uploads/2022/03/277157873_2471346676332743_5337689247741410998_n.jpg
END:VEVENT
END:VCALENDAR