




BEGIN:VCALENDAR
VERSION:2.0
PRODID:-//Movement France - ECPv6.0.3.1//NONSGML v1.0//EN
CALSCALE:GREGORIAN
METHOD:PUBLISH
X-WR-CALNAME:Movement France
X-ORIGINAL-URL:https://movementfrance.com
X-WR-CALDESC:Events for Movement France
REFRESH-INTERVAL;VALUE=DURATION:PT1H
X-Robots-Tag:noindex
X-PUBLISHED-TTL:PT1H
BEGIN:VTIMEZONE
TZID:Europe/Paris
BEGIN:DAYLIGHT
TZOFFSETFROM:+0100
TZOFFSETTO:+0200
TZNAME:CEST
DTSTART:20210328T010000
END:DAYLIGHT
BEGIN:STANDARD
TZOFFSETFROM:+0200
TZOFFSETTO:+0100
TZNAME:CET
DTSTART:20211031T010000
END:STANDARD
END:VTIMEZONE
BEGIN:VEVENT
DTSTART;TZID=Europe/Paris:20211030T140000
DTEND;TZID=Europe/Paris:20211031T170000
DTSTAMP:20260424T153017
CREATED:20211008T190945Z
LAST-MODIFIED:20211008T190945Z
UID:7805-1635602400-1635699600@movementfrance.com
SUMMARY:Les 20ans d'Ayud'Art
DESCRIPTION:
URL:https://movementfrance.com/event/les-20ans-dayudart/
ATTACH;FMTTYPE=image/jpeg:https://movementfrance.com/wp-content/uploads/2021/10/244630689_2388447241289112_6777763010116185922_n.jpg
END:VEVENT
END:VCALENDAR